BEGIN:VCALENDAR
VERSION:2.0
PRODID:-//Squarespace Inc/Squarespace 6//v6//EN
BEGIN:VEVENT
UID:5e43895f383ee71bf82d637f@squarespace.com
DTSTAMP:20200212T051706Z
DTSTART:20200306T053000Z
DTEND:20200308T063000Z
SUMMARY:Wonderwalls Port Adelaide
END:VEVENT
END:VCALENDAR
